BEGIN:VCALENDAR
CALSCALE:GREGORIAN
X-WR-TIMEZONE;VALUE=TEXT:GMT
PRODID:PEAK Corporation - piCal -
X-WR-CALNAME;VALUE=TEXT:「@-Live.028 -Brilliant scene-」
VERSION:2.0
METHOD:PUBLISH
BEGIN:VTIMEZONE
TZID:GMT
BEGIN:STANDARD
DTSTART:19390101T000000
TZOFFSETFROM:+0000
TZOFFSETTO:+0000
TZNAME:GMT
END:STANDARD
END:VTIMEZONE
BEGIN:VEVENT
DTSTART:20180213T083000Z
DTEND:20180213T133000Z
LOCATION:渋谷TSUTAYAO-WEST
TRANSP:OPAQUE
SEQUENCE:1
UID:pical060-cd3ec2646aeeb44988e96669aa3fce1b
DTSTAMP:20171120T140950Z
CATEGORIES:
DESCRIPTION:@works project 6th anniversary 3days\n「@-Live.028 -Brilliant scene-」\n\n2018年2月13日（火）\n ［出演］Dacco/Rice/Ricky/UCHUSENTAI:NOIZ/S.Q.F\n［会場］渋谷TSUTAYAO-WEST\n［開場］17：30\n［開演］18：15\n\n［チケット］\n●3days先行通し券(\12,000)  ＊S.Q.F出演は、2/13のみです。\n3days先行通し券 (S1?)アットワークス郵便振替のみ  \n11/10(金)?11/20(月)\n【3days先行通し券郵便振替】\n 各公演最優先入場S番の3枚1セットのチケットとなります。（各公演整理番号シャッフ\nル）\n 詳しいお申込み方法はアットワークスオフィシャルサイトをご覧ください。\<a href="nhttp://at-works-project.com" rel="external">nhttp://at-works-project.com</a>\n●一般前売￥4,500\n  一般プレイガイド：2017/12/3(日)10:00? 　\nイープラス(A1?)\nローソン(B1?) Lコード:72276\n●当日￥5,000\n\n*全チケット別途ドリンク代必要\n\n［入場順］\n1.3days先行通し券(S1?)→2.3.イープラス・ローソン(A1?同時並列)→当日券  \n
SUMMARY:「@-Live.028 -Brilliant scene-」
PRIORITY:0
CLASS:PUBLIC
END:VEVENT
END:VCALENDAR
