BEGIN:VCALENDAR
CALSCALE:GREGORIAN
X-WR-TIMEZONE;VALUE=TEXT:GMT
PRODID:PEAK Corporation - piCal -
X-WR-CALNAME;VALUE=TEXT:「V-BAND祭」
VERSION:2.0
METHOD:PUBLISH
BEGIN:VTIMEZONE
TZID:GMT
BEGIN:STANDARD
DTSTART:19390101T000000
TZOFFSETFROM:+0000
TZOFFSETTO:+0000
TZNAME:GMT
END:STANDARD
END:VTIMEZONE
BEGIN:VEVENT
DTSTART:20170504T073000Z
DTEND:20170504T130000Z
LOCATION:渋谷TSUTAYA O-WEST
TRANSP:OPAQUE
SEQUENCE:1
UID:pical060-b681b5b48dbe5b836b1ee90191496582
DTSTAMP:20170225T084510Z
CATEGORIES:LIVE
DESCRIPTION:2017.05.04(木・祝)\n「V-BAND祭」\n\n渋谷TSUTAYA O-WEST\n「V-BAND祭」\n～SPRING FESTIVAL 2017～\n\n開場16:30  開演17:00\n前売券￥4,500(Ｄ別)/当日券￥5,000(Ｄ別)\n\n[出演]全４バンド\nアンティック-珈琲店-\nAnli Pollicino\nS.Q.F\nBlu-BiLLioN\n(五十音順)\n\n[チケット]\n\n★2/25(土)お昼12:00〜3/12(日)23:59まで\nディスクガレージインターネットチケット\n「GET TICKET」にて抽選先行販売(A.1～)\<a href="nhttp://www.diskgarage.com/info/vband0504/" rel="external">nhttp://www.diskgarage.com/info/vband0504/</a>\n\n★3/26(日)10:00よリ一般発売(B.1〜)\n・ローソンチケット<a href="http://l-tike.com/v-band/TEL:0570-084-003(L:76538)" rel="external">http://l-tike.com/v-band/TEL:0570-084-003(L:76538)</a>\n・チケットぴ\nあ <a href="http://w.pia.jp/t/vband/" rel="external">http://w.pia.jp/t/vband/</a> TEL:0570-02-9999(P:322-851)\n・イープラス <a href="http://eplus.jp/v-band/" rel="external">http://eplus.jp/v-band/</a> (PC・携帯共通)\n\n[主催]DISK GARAGE\n[企画・制作]V-BAND祭事務局\n[協力]Like an Edison\n(問)DISK GARAGE/TEL:050-5533-0888\n
SUMMARY:「V-BAND祭」
PRIORITY:0
CLASS:PUBLIC
END:VEVENT
END:VCALENDAR
